BEGIN:VCALENDAR
VERSION:2.0
PRODID:-//https://mapm.org///NONSGML kigkonsult.se iCalcreator 2.10.15//
METHOD:PUBLISH
BEGIN:VEVENT
UID:20260421T083202UTC-9336sT2Xhf@https://mapm.org/
DTSTAMP:20260421T083202Z
DESCRIPTION: https://mapm.org/events/event/476-our-national-media-is-failin
 g-us
DTSTART:20260323T190000Z
DTEND:20260323T203000Z
LOCATION:online via Zoom   ()
SUMMARY:Our National Media is Failing Us
URL:https://mapm.org/events/event/476-our-national-media-is-failing-us
END:VEVENT
END:VCALENDAR
