BEGIN:VCALENDAR
VERSION:2.0
PRODID:-//https://mapm.org///NONSGML kigkonsult.se iCalcreator 2.10.15//
METHOD:PUBLISH
BEGIN:VEVENT
UID:20260421T222013UTC-7480VF7dOx@https://mapm.org/
DTSTAMP:20260421T222013Z
DESCRIPTION: https://mapm.org/events/calendar/event/429-delegate-council-me
 eting
DTSTART:20231114T110000Z
DTEND:20231114T130000Z
LOCATION:online ()
SUMMARY:Delegate Council Meeting
URL:https://mapm.org/events/calendar/event/429-delegate-council-meeting
END:VEVENT
END:VCALENDAR
