BEGIN:VCALENDAR
VERSION:2.0
PRODID:-//https://mapm.org///NONSGML kigkonsult.se iCalcreator 2.10.15//
METHOD:PUBLISH
BEGIN:VEVENT
UID:20260422T022502UTC-0173tsIWUl@https://mapm.org/
DTSTAMP:20260422T022502Z
DESCRIPTION: https://mapm.org/events/calendar/event/428-map-climate-change-
 planning-meeting
DTSTART:20231024T110000Z
DTEND:20231024T130000Z
LOCATION:online ()
SUMMARY:MAP Climate Change Planning Meeting
URL:https://mapm.org/events/calendar/event/428-map-climate-change-planning-
 meeting
END:VEVENT
END:VCALENDAR
