BEGIN:VCALENDAR
VERSION:2.0
PRODID:-//https://mapm.org///NONSGML kigkonsult.se iCalcreator 2.10.15//
METHOD:PUBLISH
BEGIN:VEVENT
UID:20260419T182035UTC-3367A5kmXH@https://mapm.org/
DTSTAMP:20260419T182035Z
DESCRIPTION: https://mapm.org/events/calendar/event/447-map-delegate-counci
 l-meeting
DTSTART:20240709T110000Z
DTEND:20240709T130000Z
LOCATION:Zoom-Based Virtual Meeting (445 Wacouta St\, St Paul\, MN 55101\, 
 USA)
SUMMARY:MAP Delegate Council Meeting
URL:https://mapm.org/events/calendar/event/447-map-delegate-council-meeting
END:VEVENT
END:VCALENDAR
