BEGIN:VCALENDAR
VERSION:2.0
PRODID:-//https://mapm.org///NONSGML kigkonsult.se iCalcreator 2.10.15//
METHOD:PUBLISH
BEGIN:VEVENT
UID:20260420T103853UTC-4610b3gM5n@https://mapm.org/
DTSTAMP:20260420T103853Z
DESCRIPTION:\nCelebrate the planting of a 'Green Screen' at Pilgrim Baptist
  Church! https://mapm.org/events/calendar/event/443-planting-festival
DTSTART:20240504T100000Z
DTEND:20240504T140000Z
LOCATION:Pilgrim Baptist Church\, 732 Central Ave W\, St Paul ()
SUMMARY:Planting Festival
URL:https://mapm.org/events/calendar/event/443-planting-festival
END:VEVENT
END:VCALENDAR
