BEGIN:VCALENDAR
VERSION:2.0
PRODID:-//https://mapm.org///NONSGML kigkonsult.se iCalcreator 2.10.15//
METHOD:PUBLISH
BEGIN:VEVENT
UID:20260420T175934UTC-6022REzJVa@https://mapm.org/
DTSTAMP:20260420T175934Z
DESCRIPTION: https://mapm.org/events/calendar/event/437-bodily-autonomy-fro
 m-reproduction-to-end-of-life-options
DTSTART:20240327T190000Z
DTEND:20240327T210000Z
LOCATION:online via Zoom (online via Zoom)
SUMMARY:BODILY AUTONOMY – FROM REPRODUCTION TO END-OF-LIFE OPTIONS 
URL:https://mapm.org/events/calendar/event/437-bodily-autonomy-from-reprodu
 ction-to-end-of-life-options
END:VEVENT
END:VCALENDAR
